Package: affycomp Version: 1.83.0 Command: /home/biocbuild/R/R/bin/R CMD INSTALL affycomp StartedAt: 2025-01-29 19:31:25 -0000 (Wed, 29 Jan 2025) EndedAt: 2025-01-29 19:31:40 -0000 (Wed, 29 Jan 2025) EllapsedTime: 15.4 seconds RetCode: 0 Status: OK