Package: affycomp Version: 1.83.0 Command: /Library/Frameworks/R.framework/Resources/bin/R CMD build --keep-empty-dirs --no-resave-data affycomp StartedAt: 2025-02-09 15:51:47 -0500 (Sun, 09 Feb 2025) EndedAt: 2025-02-09 15:52:07 -0500 (Sun, 09 Feb 2025) EllapsedTime: 19.5 seconds RetCode: 0 Status: OK PackageFile: affycomp_1.83.0.tar.gz PackageFileSize: 7.979 MiB