Package: affycomp Version: 1.83.0 Command: /Library/Frameworks/R.framework/Resources/bin/R CMD INSTALL affycomp StartedAt: 2025-02-12 15:05:17 -0500 (Wed, 12 Feb 2025) EndedAt: 2025-02-12 15:05:36 -0500 (Wed, 12 Feb 2025) EllapsedTime: 19.6 seconds RetCode: 0 Status: OK