Package: affycomp Version: 1.83.0 Command: /home/biocbuild/bbs-3.21-bioc/R/bin/R CMD build --keep-empty-dirs --no-resave-data affycomp StartedAt: 2025-02-09 16:06:33 -0500 (Sun, 09 Feb 2025) EndedAt: 2025-02-09 16:06:44 -0500 (Sun, 09 Feb 2025) EllapsedTime: 11.0 seconds RetCode: 0 Status: OK PackageFile: affycomp_1.83.0.tar.gz PackageFileSize: 7.979 MiB