Package: affycomp Version: 1.83.0 Command: /home/biocbuild/bbs-3.21-bioc/R/bin/R CMD check --install=check:affycomp.install-out.txt --library=/home/biocbuild/bbs-3.21-bioc/R/site-library --timings affycomp_1.83.0.tar.gz StartedAt: 2025-02-09 19:54:34 -0500 (Sun, 09 Feb 2025) EndedAt: 2025-02-09 19:55:06 -0500 (Sun, 09 Feb 2025) EllapsedTime: 32.0 seconds RetCode: 0 Status: OK CheckDir: affycomp.Rcheck Warnings: 0