Package: affycomp Version: 1.83.0 Command: E:\biocbuild\bbs-3.21-bioc\R\bin\R.exe CMD check --no-multiarch --install=check:affycomp.install-out.txt --library=E:\biocbuild\bbs-3.21-bioc\R\library --no-vignettes --timings affycomp_1.83.0.tar.gz StartedAt: 2025-02-09 22:29:52 -0500 (Sun, 09 Feb 2025) EndedAt: 2025-02-09 22:30:34 -0500 (Sun, 09 Feb 2025) EllapsedTime: 42.4 seconds RetCode: 0 Status: OK CheckDir: affycomp.Rcheck Warnings: 0