Package: affyio Version: 1.77.3 Command: rm -rf affyio.buildbin-libdir && mkdir affyio.buildbin-libdir && /Users/biocbuild/BBS/utils/build-universal.sh affyio_1.77.3.tar.gz /Library/Frameworks/R.framework/Resources/bin/R affyio.buildbin-libdir StartedAt: 2025-02-09 22:05:18 -0500 (Sun, 09 Feb 2025) EndedAt: 2025-02-09 22:05:26 -0500 (Sun, 09 Feb 2025) EllapsedTime: 8.2 seconds RetCode: 0 Status: OK PackageFile: affyio_1.77.3.tgz PackageFileSize: 92.38 KiB