Package: affyio Version: 1.77.3 Command: /Library/Frameworks/R.framework/Resources/bin/R CMD build --keep-empty-dirs --no-resave-data affyio StartedAt: 2025-02-04 15:31:45 -0500 (Tue, 04 Feb 2025) EndedAt: 2025-02-04 15:31:46 -0500 (Tue, 04 Feb 2025) EllapsedTime: 1.0 seconds RetCode: 0 Status: OK PackageFile: affyio_1.77.3.tar.gz PackageFileSize: 107.8 KiB