Package: affyio Version: 1.77.3 Command: /Library/Frameworks/R.framework/Resources/bin/R CMD check --install=check:affyio.install-out.txt --library=/Library/Frameworks/R.framework/Resources/library --no-vignettes --timings affyio_1.77.3.tar.gz StartedAt: 2025-02-09 17:59:52 -0500 (Sun, 09 Feb 2025) EndedAt: 2025-02-09 18:00:02 -0500 (Sun, 09 Feb 2025) EllapsedTime: 9.1 seconds RetCode: 0 Status: WARNINGS CheckDir: affyio.Rcheck Warnings: 2