Package: affyio Version: 1.77.3 Command: /Library/Frameworks/R.framework/Resources/bin/R CMD INSTALL affyio StartedAt: 2025-02-09 15:01:03 -0500 (Sun, 09 Feb 2025) EndedAt: 2025-02-09 15:01:10 -0500 (Sun, 09 Feb 2025) EllapsedTime: 6.7 seconds RetCode: 0 Status: OK