Package: affyio Version: 1.77.3 Command: /home/biocbuild/R/R/bin/R CMD build --keep-empty-dirs --no-resave-data affyio StartedAt: 2025-01-29 20:46:08 -0000 (Wed, 29 Jan 2025) EndedAt: 2025-01-29 20:46:09 -0000 (Wed, 29 Jan 2025) EllapsedTime: 1.0 seconds RetCode: 0 Status: OK PackageFile: affyio_1.77.3.tar.gz PackageFileSize: 107.8 KiB