Package: affyio Version: 1.77.3 Command: /home/biocbuild/R/R/bin/R CMD INSTALL affyio StartedAt: 2025-01-29 19:29:52 -0000 (Wed, 29 Jan 2025) EndedAt: 2025-01-29 19:30:12 -0000 (Wed, 29 Jan 2025) EllapsedTime: 20.7 seconds RetCode: 0 Status: OK