Package: affyio Version: 1.77.3 Command: /Library/Frameworks/R.framework/Resources/bin/R CMD INSTALL affyio StartedAt: 2025-02-03 15:08:42 -0500 (Mon, 03 Feb 2025) EndedAt: 2025-02-03 15:09:09 -0500 (Mon, 03 Feb 2025) EllapsedTime: 27.2 seconds RetCode: 0 Status: OK