Package: affyio Version: 1.77.3 Command: /home/biocbuild/bbs-3.21-bioc/R/bin/R CMD build --keep-empty-dirs --no-resave-data affyio StartedAt: 2025-02-03 16:15:07 -0500 (Mon, 03 Feb 2025) EndedAt: 2025-02-03 16:15:08 -0500 (Mon, 03 Feb 2025) EllapsedTime: 1.0 seconds RetCode: 0 Status: OK PackageFile: affyio_1.77.3.tar.gz PackageFileSize: 107.8 KiB