Package: affyio Version: 1.77.3 Command: rm -rf affyio.buildbin-libdir && mkdir affyio.buildbin-libdir && E:\biocbuild\bbs-3.21-bioc\R\bin\R.exe CMD INSTALL --build --library=affyio.buildbin-libdir affyio_1.77.3.tar.gz StartedAt: 2025-02-10 07:10:23 -0500 (Mon, 10 Feb 2025) EndedAt: 2025-02-10 07:11:03 -0500 (Mon, 10 Feb 2025) EllapsedTime: 39.8 seconds RetCode: 0 Status: OK PackageFile: affyio_1.77.3.zip PackageFileSize: 142.8 KiB