Package: affyio Version: 1.77.3 Command: chmod a+r affyio -R && E:\biocbuild\bbs-3.21-bioc\R\bin\R.exe CMD build --keep-empty-dirs --no-resave-data affyio StartedAt: 2025-02-09 17:10:03 -0500 (Sun, 09 Feb 2025) EndedAt: 2025-02-09 17:10:16 -0500 (Sun, 09 Feb 2025) EllapsedTime: 13.0 seconds RetCode: 0 Status: OK PackageFile: affyio_1.77.3.tar.gz PackageFileSize: 107.6 KiB