Package: affyio Version: 1.77.3 Command: E:\biocbuild\bbs-3.21-bioc\R\bin\R.exe CMD check --no-multiarch --install=check:affyio.install-out.txt --library=E:\biocbuild\bbs-3.21-bioc\R\library --no-vignettes --timings affyio_1.77.3.tar.gz StartedAt: 2025-02-09 22:30:31 -0500 (Sun, 09 Feb 2025) EndedAt: 2025-02-09 22:30:59 -0500 (Sun, 09 Feb 2025) EllapsedTime: 27.2 seconds RetCode: 0 Status: WARNINGS CheckDir: affyio.Rcheck Warnings: 1