Package: affylmGUI Version: 1.81.0 Command: /Library/Frameworks/R.framework/Resources/bin/R CMD INSTALL affylmGUI StartedAt: 2025-02-09 15:11:53 -0500 (Sun, 09 Feb 2025) EndedAt: 2025-02-09 15:12:03 -0500 (Sun, 09 Feb 2025) EllapsedTime: 10.2 seconds RetCode: 0 Status: OK