Package: affylmGUI Version: 1.81.0 Command: /Library/Frameworks/R.framework/Resources/bin/R CMD build --keep-empty-dirs --no-resave-data affylmGUI StartedAt: 2025-02-12 15:50:38 -0500 (Wed, 12 Feb 2025) EndedAt: 2025-02-12 15:51:20 -0500 (Wed, 12 Feb 2025) EllapsedTime: 41.3 seconds RetCode: 0 Status: OK PackageFile: affylmGUI_1.81.0.tar.gz PackageFileSize: 1.758 MiB