Package: affylmGUI Version: 1.81.0 Command: /Library/Frameworks/R.framework/Resources/bin/R CMD INSTALL affylmGUI StartedAt: 2025-02-12 15:16:50 -0500 (Wed, 12 Feb 2025) EndedAt: 2025-02-12 15:17:22 -0500 (Wed, 12 Feb 2025) EllapsedTime: 32.0 seconds RetCode: 0 Status: OK