Package: affylmGUI Version: 1.81.0 Command: rm -rf affylmGUI.buildbin-libdir && mkdir affylmGUI.buildbin-libdir && E:\biocbuild\bbs-3.21-bioc\R\bin\R.exe CMD INSTALL --build --library=affylmGUI.buildbin-libdir affylmGUI_1.81.0.tar.gz StartedAt: 2025-02-13 07:22:17 -0500 (Thu, 13 Feb 2025) EndedAt: 2025-02-13 07:23:06 -0500 (Thu, 13 Feb 2025) EllapsedTime: 49.1 seconds RetCode: 0 Status: OK PackageFile: affylmGUI_1.81.0.zip PackageFileSize: 2.069 MiB