Package: affylmGUI Version: 1.81.0 Command: E:\biocbuild\bbs-3.21-bioc\R\bin\R.exe CMD INSTALL affylmGUI StartedAt: 2025-02-09 15:52:00 -0500 (Sun, 09 Feb 2025) EndedAt: 2025-02-09 15:53:00 -0500 (Sun, 09 Feb 2025) EllapsedTime: 59.9 seconds RetCode: 0 Status: OK