Package: aggregateBioVar Version: 1.17.0 Command: /Library/Frameworks/R.framework/Resources/bin/R CMD check --install=check:aggregateBioVar.install-out.txt --library=/Library/Frameworks/R.framework/Resources/library --no-vignettes --timings aggregateBioVar_1.17.0.tar.gz StartedAt: 2025-02-09 18:00:12 -0500 (Sun, 09 Feb 2025) EndedAt: 2025-02-09 18:01:19 -0500 (Sun, 09 Feb 2025) EllapsedTime: 67.0 seconds RetCode: 0 Status: OK CheckDir: aggregateBioVar.Rcheck Warnings: 0