Package: aggregateBioVar Version: 1.17.0 Command: /Library/Frameworks/R.framework/Resources/bin/R CMD INSTALL aggregateBioVar StartedAt: 2025-02-12 15:05:12 -0500 (Wed, 12 Feb 2025) EndedAt: 2025-02-12 15:05:22 -0500 (Wed, 12 Feb 2025) EllapsedTime: 9.8 seconds RetCode: 0 Status: OK