Package: aggregateBioVar Version: 1.17.0 Command: /Library/Frameworks/R.framework/Resources/bin/R CMD build --keep-empty-dirs --no-resave-data aggregateBioVar StartedAt: 2025-02-09 15:52:07 -0500 (Sun, 09 Feb 2025) EndedAt: 2025-02-09 15:53:40 -0500 (Sun, 09 Feb 2025) EllapsedTime: 93.8 seconds RetCode: 0 Status: OK PackageFile: aggregateBioVar_1.17.0.tar.gz PackageFileSize: 1.215 MiB