Package: aggregateBioVar Version: 1.17.0 Command: /Library/Frameworks/R.framework/Resources/bin/R CMD INSTALL aggregateBioVar StartedAt: 2025-02-12 15:12:13 -0500 (Wed, 12 Feb 2025) EndedAt: 2025-02-12 15:12:45 -0500 (Wed, 12 Feb 2025) EllapsedTime: 31.4 seconds RetCode: 0 Status: OK