Package: aggregateBioVar Version: 1.17.0 Command: rm -rf aggregateBioVar.buildbin-libdir && mkdir aggregateBioVar.buildbin-libdir && E:\biocbuild\bbs-3.21-bioc\R\bin\R.exe CMD INSTALL --build --library=aggregateBioVar.buildbin-libdir aggregateBioVar_1.17.0.tar.gz StartedAt: 2025-02-10 07:10:36 -0500 (Mon, 10 Feb 2025) EndedAt: 2025-02-10 07:11:30 -0500 (Mon, 10 Feb 2025) EllapsedTime: 54.2 seconds RetCode: 0 Status: OK PackageFile: aggregateBioVar_1.17.0.zip PackageFileSize: 1.461 MiB