Package: aggregateBioVar Version: 1.17.0 Command: E:\biocbuild\bbs-3.21-bioc\R\bin\R.exe CMD INSTALL aggregateBioVar StartedAt: 2025-02-09 16:32:50 -0500 (Sun, 09 Feb 2025) EndedAt: 2025-02-09 16:33:23 -0500 (Sun, 09 Feb 2025) EllapsedTime: 33.0 seconds RetCode: 0 Status: OK