Package: agilp Version: 3.39.0 Command: rm -rf agilp.buildbin-libdir && mkdir agilp.buildbin-libdir && /Users/biocbuild/BBS/utils/build-universal.sh agilp_3.39.0.tar.gz /Library/Frameworks/R.framework/Resources/bin/R agilp.buildbin-libdir StartedAt: 2025-02-09 22:05:22 -0500 (Sun, 09 Feb 2025) EndedAt: 2025-02-09 22:05:24 -0500 (Sun, 09 Feb 2025) EllapsedTime: 2.0 seconds RetCode: 0 Status: OK PackageFile: agilp_3.39.0.tgz PackageFileSize: 489.9 KiB