Package: agilp Version: 3.39.0 Command: /Library/Frameworks/R.framework/Resources/bin/R CMD INSTALL agilp StartedAt: 2025-02-09 15:00:54 -0500 (Sun, 09 Feb 2025) EndedAt: 2025-02-09 15:00:58 -0500 (Sun, 09 Feb 2025) EllapsedTime: 4.4 seconds RetCode: 0 Status: OK