Package: agilp Version: 3.39.0 Command: /Library/Frameworks/R.framework/Resources/bin/R CMD build --keep-empty-dirs --no-resave-data agilp StartedAt: 2025-02-09 15:52:09 -0500 (Sun, 09 Feb 2025) EndedAt: 2025-02-09 15:52:18 -0500 (Sun, 09 Feb 2025) EllapsedTime: 9.2 seconds RetCode: 0 Status: OK PackageFile: agilp_3.39.0.tar.gz PackageFileSize: 452 KiB