Package: agilp Version: 3.39.0 Command: /home/biocbuild/bbs-3.21-bioc/R/bin/R CMD INSTALL agilp StartedAt: 2025-02-09 15:02:36 -0500 (Sun, 09 Feb 2025) EndedAt: 2025-02-09 15:02:45 -0500 (Sun, 09 Feb 2025) EllapsedTime: 9.3 seconds RetCode: 0 Status: OK