Package: agilp Version: 3.39.0 Command: rm -rf agilp.buildbin-libdir && mkdir agilp.buildbin-libdir && E:\biocbuild\bbs-3.21-bioc\R\bin\R.exe CMD INSTALL --build --library=agilp.buildbin-libdir agilp_3.39.0.tar.gz StartedAt: 2025-02-13 07:22:26 -0500 (Thu, 13 Feb 2025) EndedAt: 2025-02-13 07:22:40 -0500 (Thu, 13 Feb 2025) EllapsedTime: 13.3 seconds RetCode: 0 Status: OK PackageFile: agilp_3.39.0.zip PackageFileSize: 387.6 KiB