Package: airpart Version: 1.15.0 Command: rm -rf airpart.buildbin-libdir && mkdir airpart.buildbin-libdir && /Users/biocbuild/BBS/utils/build-universal.sh airpart_1.15.0.tar.gz /Library/Frameworks/R.framework/Resources/bin/R airpart.buildbin-libdir StartedAt: 2025-02-09 22:05:24 -0500 (Sun, 09 Feb 2025) EndedAt: 2025-02-09 22:05:38 -0500 (Sun, 09 Feb 2025) EllapsedTime: 14.3 seconds RetCode: 0 Status: OK PackageFile: airpart_1.15.0.tgz PackageFileSize: 1.579 MiB