Package: airpart Version: 1.15.0 Command: /Library/Frameworks/R.framework/Resources/bin/R CMD check --install=check:airpart.install-out.txt --library=/Library/Frameworks/R.framework/Resources/library --no-vignettes --timings airpart_1.15.0.tar.gz StartedAt: 2025-02-09 18:00:30 -0500 (Sun, 09 Feb 2025) EndedAt: 2025-02-09 18:02:15 -0500 (Sun, 09 Feb 2025) EllapsedTime: 105.3 seconds RetCode: 0 Status: OK CheckDir: airpart.Rcheck Warnings: 0