Package: airpart Version: 1.15.0 Command: /Library/Frameworks/R.framework/Resources/bin/R CMD INSTALL airpart StartedAt: 2025-02-09 15:25:44 -0500 (Sun, 09 Feb 2025) EndedAt: 2025-02-09 15:25:56 -0500 (Sun, 09 Feb 2025) EllapsedTime: 12.0 seconds RetCode: 0 Status: OK