Package: airpart Version: 1.15.0 Command: /home/biocbuild/bbs-3.21-bioc/R/bin/R CMD build --keep-empty-dirs --no-resave-data airpart StartedAt: 2025-02-04 16:05:16 -0500 (Tue, 04 Feb 2025) EndedAt: 2025-02-04 16:06:29 -0500 (Tue, 04 Feb 2025) EllapsedTime: 73.1 seconds RetCode: 0 Status: OK PackageFile: airpart_1.15.0.tar.gz PackageFileSize: 1.307 MiB