Package: airpart Version: 1.15.0 Command: chmod a+r airpart -R && E:\biocbuild\bbs-3.21-bioc\R\bin\R.exe CMD build --keep-empty-dirs --no-resave-data airpart StartedAt: 2025-02-09 17:10:28 -0500 (Sun, 09 Feb 2025) EndedAt: 2025-02-09 17:12:22 -0500 (Sun, 09 Feb 2025) EllapsedTime: 114.3 seconds RetCode: 0 Status: OK PackageFile: airpart_1.15.0.tar.gz PackageFileSize: 710 KiB