Package: alabaster.base Version: 1.7.6 Command: rm -rf alabaster.base.buildbin-libdir && mkdir alabaster.base.buildbin-libdir && /Users/biocbuild/BBS/utils/build-universal.sh alabaster.base_1.7.6.tar.gz /Library/Frameworks/R.framework/Resources/bin/R alabaster.base.buildbin-libdir StartedAt: 2025-02-09 22:05:24 -0500 (Sun, 09 Feb 2025) EndedAt: 2025-02-09 22:05:51 -0500 (Sun, 09 Feb 2025) EllapsedTime: 27.5 seconds RetCode: 0 Status: OK PackageFile: alabaster.base_1.7.6.tgz PackageFileSize: 2.105 MiB