Package: alabaster.base Version: 1.7.6 Command: /Library/Frameworks/R.framework/Resources/bin/R CMD build --keep-empty-dirs --no-resave-data alabaster.base StartedAt: 2025-02-09 15:31:57 -0500 (Sun, 09 Feb 2025) EndedAt: 2025-02-09 15:32:25 -0500 (Sun, 09 Feb 2025) EllapsedTime: 28.3 seconds RetCode: 0 Status: OK PackageFile: alabaster.base_1.7.6.tar.gz PackageFileSize: 323.4 KiB