Package: alabaster.base Version: 1.7.6 Command: rm -rf alabaster.base.buildbin-libdir && mkdir alabaster.base.buildbin-libdir && /Users/biocbuild/BBS/utils/build-universal.sh alabaster.base_1.7.6.tar.gz /Library/Frameworks/R.framework/Resources/bin/R alabaster.base.buildbin-libdir StartedAt: 2025-02-10 00:41:17 -0500 (Mon, 10 Feb 2025) EndedAt: 2025-02-10 00:43:08 -0500 (Mon, 10 Feb 2025) EllapsedTime: 111.0 seconds RetCode: 0 Status: OK PackageFile: alabaster.base_1.7.6.tgz PackageFileSize: 2.45 MiB