Package: alabaster.base Version: 1.7.6 Command: /Library/Frameworks/R.framework/Resources/bin/R CMD check --install=check:alabaster.base.install-out.txt --library=/Library/Frameworks/R.framework/Resources/library --no-vignettes --timings alabaster.base_1.7.6.tar.gz StartedAt: 2025-02-12 18:51:22 -0500 (Wed, 12 Feb 2025) EndedAt: 2025-02-12 18:53:24 -0500 (Wed, 12 Feb 2025) EllapsedTime: 122.1 seconds RetCode: 0 Status: WARNINGS CheckDir: alabaster.base.Rcheck Warnings: 1