Package: alabaster.base Version: 1.7.6 Command: /home/biocbuild/bbs-3.21-bioc/R/bin/R CMD check --install=check:alabaster.base.install-out.txt --library=/home/biocbuild/bbs-3.21-bioc/R/site-library --timings alabaster.base_1.7.6.tar.gz StartedAt: 2025-02-09 19:56:45 -0500 (Sun, 09 Feb 2025) EndedAt: 2025-02-09 19:58:32 -0500 (Sun, 09 Feb 2025) EllapsedTime: 107.2 seconds RetCode: 0 Status: WARNINGS CheckDir: alabaster.base.Rcheck Warnings: 1