Package: alabaster.base Version: 1.7.6 Command: chmod a+r alabaster.base -R && E:\biocbuild\bbs-3.21-bioc\R\bin\R.exe CMD build --keep-empty-dirs --no-resave-data alabaster.base StartedAt: 2025-02-12 17:11:51 -0500 (Wed, 12 Feb 2025) EndedAt: 2025-02-12 17:14:23 -0500 (Wed, 12 Feb 2025) EllapsedTime: 152.0 seconds RetCode: 0 Status: OK PackageFile: alabaster.base_1.7.6.tar.gz PackageFileSize: 323.8 KiB