Package: alabaster.bumpy Version: 1.7.0 Command: /home/biocbuild/R/R/bin/R CMD build --keep-empty-dirs --no-resave-data alabaster.bumpy StartedAt: 2025-01-29 20:47:03 -0000 (Wed, 29 Jan 2025) EndedAt: 2025-01-29 20:47:27 -0000 (Wed, 29 Jan 2025) EllapsedTime: 24.0 seconds RetCode: 0 Status: OK PackageFile: alabaster.bumpy_1.7.0.tar.gz PackageFileSize: 260.5 KiB