Package: alabaster.bumpy Version: 1.7.0 Command: rm -rf alabaster.bumpy.buildbin-libdir && mkdir alabaster.bumpy.buildbin-libdir && /Users/biocbuild/BBS/utils/build-universal.sh alabaster.bumpy_1.7.0.tar.gz /Library/Frameworks/R.framework/Resources/bin/R alabaster.bumpy.buildbin-libdir StartedAt: 2025-02-05 00:27:48 -0500 (Wed, 05 Feb 2025) EndedAt: 2025-02-05 00:28:08 -0500 (Wed, 05 Feb 2025) EllapsedTime: 19.6 seconds RetCode: 0 Status: OK PackageFile: alabaster.bumpy_1.7.0.tgz PackageFileSize: 270.9 KiB