Package: alabaster.mae Version: 1.7.0 Command: rm -rf alabaster.mae.buildbin-libdir && mkdir alabaster.mae.buildbin-libdir && /Users/biocbuild/BBS/utils/build-universal.sh alabaster.mae_1.7.0.tar.gz /Library/Frameworks/R.framework/Resources/bin/R alabaster.mae.buildbin-libdir StartedAt: 2025-02-09 22:05:26 -0500 (Sun, 09 Feb 2025) EndedAt: 2025-02-09 22:05:38 -0500 (Sun, 09 Feb 2025) EllapsedTime: 12.2 seconds RetCode: 0 Status: OK PackageFile: alabaster.mae_1.7.0.tgz PackageFileSize: 300.3 KiB