Package: alabaster.mae Version: 1.7.0 Command: /home/biocbuild/R/R/bin/R CMD check --install=check:alabaster.mae.install-out.txt --library=/home/biocbuild/R/R/site-library --no-vignettes --timings alabaster.mae_1.7.0.tar.gz StartedAt: 2025-01-28 03:28:47 -0000 (Tue, 28 Jan 2025) EndedAt: 2025-01-28 03:32:58 -0000 (Tue, 28 Jan 2025) EllapsedTime: 250.3 seconds RetCode: 1 Status: ERROR CheckDir: alabaster.mae.Rcheck Warnings: NA