Package: alabaster.mae Version: 1.7.0 Command: /home/biocbuild/R/R/bin/R CMD INSTALL alabaster.mae StartedAt: 2025-01-29 20:29:41 -0000 (Wed, 29 Jan 2025) EndedAt: 2025-01-29 20:30:18 -0000 (Wed, 29 Jan 2025) EllapsedTime: 37.1 seconds RetCode: 0 Status: OK