Package: alabaster.mae Version: 1.7.0 Command: /home/biocbuild/bbs-3.21-bioc/R/bin/R CMD build --keep-empty-dirs --no-resave-data alabaster.mae StartedAt: 2025-02-12 16:07:29 -0500 (Wed, 12 Feb 2025) EndedAt: 2025-02-12 16:08:08 -0500 (Wed, 12 Feb 2025) EllapsedTime: 39.0 seconds RetCode: 0 Status: OK PackageFile: alabaster.mae_1.7.0.tar.gz PackageFileSize: 222.6 KiB